BEGIN:VCALENDAR
VERSION:2.0
PRODID:-//Children&#039;s Fairyland - ECPv6.15.20//NONSGML v1.0//EN
CALSCALE:GREGORIAN
METHOD:PUBLISH
X-WR-CALNAME:Children&#039;s Fairyland
X-ORIGINAL-URL:https://fairyland.org
X-WR-CALDESC:Events for Children&#039;s Fairyland
REFRESH-INTERVAL;VALUE=DURATION:PT1H
X-Robots-Tag:noindex
X-PUBLISHED-TTL:PT1H
BEGIN:VTIMEZONE
TZID:America/Vancouver
BEGIN:DAYLIGHT
TZOFFSETFROM:-0800
TZOFFSETTO:-0700
TZNAME:PDT
DTSTART:20250309T100000
END:DAYLIGHT
BEGIN:STANDARD
TZOFFSETFROM:-0700
TZOFFSETTO:-0800
TZNAME:PST
DTSTART:20251102T090000
END:STANDARD
BEGIN:DAYLIGHT
TZOFFSETFROM:-0800
TZOFFSETTO:-0700
TZNAME:PDT
DTSTART:20260308T100000
END:DAYLIGHT
BEGIN:STANDARD
TZOFFSETFROM:-0700
TZOFFSETTO:-0800
TZNAME:PST
DTSTART:20261101T090000
END:STANDARD
BEGIN:DAYLIGHT
TZOFFSETFROM:-0800
TZOFFSETTO:-0700
TZNAME:PDT
DTSTART:20270314T100000
END:DAYLIGHT
BEGIN:STANDARD
TZOFFSETFROM:-0700
TZOFFSETTO:-0800
TZNAME:PST
DTSTART:20271107T090000
END:STANDARD
END:VTIMEZONE
BEGIN:VEVENT
DTSTART;TZID=America/Vancouver:20260524T100000
DTEND;TZID=America/Vancouver:20260524T160000
DTSTAMP:20260421T033106
CREATED:20260410T181451Z
LAST-MODIFIED:20260413T184520Z
UID:10008109-1779616800-1779638400@fairyland.org
SUMMARY:AAPI Heritage Celebration
DESCRIPTION:Celebrate Asian American and Pacific Islander Heritage with Children’s Fairyland!\n\nJoin us for a wonderful weekend of community\, culture\, beauty\, tradition\, and joy. Experience lively performances\, storytelling\, music\, games\, food\, and art as we uplift the vibrant beauty and rich diversity within the Asian and Pacific Islander diaspora.  \nSunday\, May 24\n11 a.m. to 2 p.m.\nArts & Crafts inspired by author Monisha Bajaj’s “Year of the Kite”\n\n1:30 p.m. & 2:30 p.m.\nMiss V with “Kids-Go-Mandarin” brings bilingual music and movement in an interactive show all children will love.  \nAll Day\nGiant Mahjong in the Merry Meadow \nCome learn\, explore\, create\, and gather in community! \nAAPI Heritage Celebration\nMay 16-17 & 23-25\nGET TICKETS
URL:https://fairyland.org/event-calendar/aapi-heritage-celebration/
CATEGORIES:Family Events
ATTACH;FMTTYPE=image/png:https://fairyland.org/wp-content/uploads/FL26.AAPI_.art-04.png
END:VEVENT
BEGIN:VEVENT
DTSTART;TZID=America/Vancouver:20260525T100000
DTEND;TZID=America/Vancouver:20260525T160000
DTSTAMP:20260421T033106
CREATED:20260410T182640Z
LAST-MODIFIED:20260413T184709Z
UID:10008110-1779703200-1779724800@fairyland.org
SUMMARY:AAPI Heritage Celebration
DESCRIPTION:Celebrate Asian American and Pacific Islander Heritage with Children’s Fairyland!\n\nJoin us for a wonderful weekend of community\, culture\, beauty\, tradition\, and joy. Experience lively performances\, storytelling\, music\, games\, food\, and art as we uplift the vibrant beauty and rich diversity within the Asian and Pacific Islander diaspora.  \nMonday\, May 25\n11 a.m. to 2 p.m.\nArts & Crafts inspired by author Monisha Bajaj’s “Year of the Kite” \n11:30 a.m.\nDonut Making Demo with Third Culture Bakery\nCome meet Chef Sam of the Bay Area beloved bakery and decorate your own Mochi donut! \n1:30 p.m. &  2:30p.m.\nMagician Perry Yen at the Emerald City Stage \nAll Day\nGiant Mahjong in the Merry Meadow \nCome learn\, explore\, create\, and gather in community! \nAAPI Heritage Celebration\nMay 16-17 & 23-25\nGET TICKETS
URL:https://fairyland.org/event-calendar/aapi-heritage-celebration-2/
CATEGORIES:Family Events
ATTACH;FMTTYPE=image/png:https://fairyland.org/wp-content/uploads/FL26.AAPI_.art-04.png
END:VEVENT
END:VCALENDAR