BEGIN:VCALENDAR
VERSION:2.0
PRODID:-//Children&#039;s Fairyland - ECPv6.15.20//NONSGML v1.0//EN
CALSCALE:GREGORIAN
METHOD:PUBLISH
X-ORIGINAL-URL:https://fairyland.org
X-WR-CALDESC:Events for Children&#039;s Fairyland
REFRESH-INTERVAL;VALUE=DURATION:PT1H
X-Robots-Tag:noindex
X-PUBLISHED-TTL:PT1H
BEGIN:VTIMEZONE
TZID:America/Vancouver
BEGIN:DAYLIGHT
TZOFFSETFROM:-0800
TZOFFSETTO:-0700
TZNAME:PDT
DTSTART:20250309T100000
END:DAYLIGHT
BEGIN:STANDARD
TZOFFSETFROM:-0700
TZOFFSETTO:-0800
TZNAME:PST
DTSTART:20251102T090000
END:STANDARD
BEGIN:DAYLIGHT
TZOFFSETFROM:-0800
TZOFFSETTO:-0700
TZNAME:PDT
DTSTART:20260308T100000
END:DAYLIGHT
BEGIN:STANDARD
TZOFFSETFROM:-0700
TZOFFSETTO:-0800
TZNAME:PST
DTSTART:20261101T090000
END:STANDARD
BEGIN:DAYLIGHT
TZOFFSETFROM:-0800
TZOFFSETTO:-0700
TZNAME:PDT
DTSTART:20270314T100000
END:DAYLIGHT
BEGIN:STANDARD
TZOFFSETFROM:-0700
TZOFFSETTO:-0800
TZNAME:PST
DTSTART:20271107T090000
END:STANDARD
END:VTIMEZONE
BEGIN:VEVENT
DTSTART;TZID=America/Vancouver:20260925T180000
DTEND;TZID=America/Vancouver:20260925T220000
DTSTAMP:20260422T191201
CREATED:20251231T210408Z
LAST-MODIFIED:20251231T222029Z
UID:10007796-1790359200-1790373600@fairyland.org
SUMMARY:Drawn Together (21+)
DESCRIPTION:Drawn Together returns to Children’s Fairyland for an intimate\, grown-ups-only (21+) evening of art\, drinks\, and delightful encounters. Wander the park after hours as local artists create Fairyland-inspired artwork live\, and before the night ends\, take home a piece of the magic during a spirited live art sale. If you’ve been before\, you know—if not\, you’ll have to see what it’s all about. This night is something special! \nDrawn TogetherDate: Friday\, September 25\, 2026Time: 6 p.m. to 10 p.m.21+Event (Attendees must show a valid 21+ ID) \nMore details to come in Spring/Summer 2026!
URL:https://fairyland.org/event-calendar/drawn-together/
CATEGORIES:Happily After Hours (21+)
END:VEVENT
END:VCALENDAR