BEGIN:VCALENDAR
VERSION:2.0
PRODID:-//Children&#039;s Fairyland - ECPv6.15.20//NONSGML v1.0//EN
CALSCALE:GREGORIAN
METHOD:PUBLISH
X-WR-CALNAME:Children&#039;s Fairyland
X-ORIGINAL-URL:https://fairyland.org
X-WR-CALDESC:Events for Children&#039;s Fairyland
REFRESH-INTERVAL;VALUE=DURATION:PT1H
X-Robots-Tag:noindex
X-PUBLISHED-TTL:PT1H
BEGIN:VTIMEZONE
TZID:America/Vancouver
BEGIN:DAYLIGHT
TZOFFSETFROM:-0800
TZOFFSETTO:-0700
TZNAME:PDT
DTSTART:20250309T100000
END:DAYLIGHT
BEGIN:STANDARD
TZOFFSETFROM:-0700
TZOFFSETTO:-0800
TZNAME:PST
DTSTART:20251102T090000
END:STANDARD
BEGIN:DAYLIGHT
TZOFFSETFROM:-0800
TZOFFSETTO:-0700
TZNAME:PDT
DTSTART:20260308T100000
END:DAYLIGHT
BEGIN:STANDARD
TZOFFSETFROM:-0700
TZOFFSETTO:-0800
TZNAME:PST
DTSTART:20261101T090000
END:STANDARD
BEGIN:DAYLIGHT
TZOFFSETFROM:-0800
TZOFFSETTO:-0700
TZNAME:PDT
DTSTART:20270314T100000
END:DAYLIGHT
BEGIN:STANDARD
TZOFFSETFROM:-0700
TZOFFSETTO:-0800
TZNAME:PST
DTSTART:20271107T090000
END:STANDARD
END:VTIMEZONE
BEGIN:VEVENT
DTSTART;TZID=America/Vancouver:20260424T180000
DTEND;TZID=America/Vancouver:20260424T220000
DTSTAMP:20260422T162106
CREATED:20251231T212237Z
LAST-MODIFIED:20260304T195324Z
UID:10004360-1777053600-1777068000@fairyland.org
SUMMARY:Mad Tea Party (21+)
DESCRIPTION:Happily After Hours presents Mad Tea Party: an adults-only (21+) Alice in Wonderland experience.\n\nYou’re invited to dress up in your most enchanted attire and tumble down the rabbit hole! \nDance under the Oakland stars as the Merry Meadow transforms into a black light dance floor\, catch mesmerizing live performances\, get lost in the Alice in Wonderland maze\, ride the Jolly Trolly\, imbibe with magic potions\, indulge in decadent treats\, sip sophisticated teas\, and enjoy the iconic 10-acre storybook park after dark…only grownups allowed!\n \nEnter a Wonderland where imaginative costumes and cocktails reign supreme.  \nDate: Friday\, April 24\, 2026\nTime: 6 p.m. to 10 p.m.\nCost: $28 per person | $23 for Fairyland Members\n21+ Event (Attendees must show a valid ID) \nMore details about entertainment and performances coming soon!
URL:https://fairyland.org/event-calendar/mad-tea-party-calendar/
CATEGORIES:Happily After Hours (21+)
ATTACH;FMTTYPE=image/png:https://fairyland.org/wp-content/uploads/FL26.MadTea_Webpage.png
END:VEVENT
BEGIN:VEVENT
DTSTART;TZID=America/Vancouver:20260925T180000
DTEND;TZID=America/Vancouver:20260925T220000
DTSTAMP:20260422T162106
CREATED:20251231T210408Z
LAST-MODIFIED:20251231T222029Z
UID:10007796-1790359200-1790373600@fairyland.org
SUMMARY:Drawn Together (21+)
DESCRIPTION:Drawn Together returns to Children’s Fairyland for an intimate\, grown-ups-only (21+) evening of art\, drinks\, and delightful encounters. Wander the park after hours as local artists create Fairyland-inspired artwork live\, and before the night ends\, take home a piece of the magic during a spirited live art sale. If you’ve been before\, you know—if not\, you’ll have to see what it’s all about. This night is something special! \nDrawn TogetherDate: Friday\, September 25\, 2026Time: 6 p.m. to 10 p.m.21+Event (Attendees must show a valid 21+ ID) \nMore details to come in Spring/Summer 2026!
URL:https://fairyland.org/event-calendar/drawn-together/
CATEGORIES:Happily After Hours (21+)
END:VEVENT
BEGIN:VEVENT
DTSTART;TZID=America/Vancouver:20261211T180000
DTEND;TZID=America/Vancouver:20261211T220000
DTSTAMP:20260422T162106
CREATED:20251231T205753Z
LAST-MODIFIED:20251231T222138Z
UID:10007319-1797012000-1797026400@fairyland.org
SUMMARY:Twas the Night Before Fairy Winterland (21+)
DESCRIPTION:Twas the Night is the now-famous grownups only (21+) evening before Fairy Winterland\, when the park transforms into a festive holiday party—one where you are invited to let loose! Wander an open-air night market\, dance under the Fairy Winterland lights\, enjoy live music from Bay Area talent\, and eat and drink until your merry heart’s content. Break out your ugliest sweater or most festive fit and celebrate the season with friends at Oakland’s most unique holiday party. \nTwas the Night Before Fairy Winterland\nDate: Friday\, December 11\, 2026\nTime: 6 p.m. to 10 p.m.\n21+Event (Attendees must show a valid 21+ ID.) \nMore details to come in early fall 2026
URL:https://fairyland.org/event-calendar/twasthenight/
CATEGORIES:Happily After Hours (21+)
END:VEVENT
END:VCALENDAR